BEGIN:VCALENDAR
VERSION:2.0
PRODID:-//wethersfieldartleague.org - ECPv6.15.20//NONSGML v1.0//EN
CALSCALE:GREGORIAN
METHOD:PUBLISH
X-WR-CALNAME:wethersfieldartleague.org
X-ORIGINAL-URL:https://wethersfieldartleague.org
X-WR-CALDESC:Events for wethersfieldartleague.org
REFRESH-INTERVAL;VALUE=DURATION:PT1H
X-Robots-Tag:noindex
X-PUBLISHED-TTL:PT1H
BEGIN:VTIMEZONE
TZID:America/New_York
BEGIN:DAYLIGHT
TZOFFSETFROM:-0500
TZOFFSETTO:-0400
TZNAME:EDT
DTSTART:20240310T070000
END:DAYLIGHT
BEGIN:STANDARD
TZOFFSETFROM:-0400
TZOFFSETTO:-0500
TZNAME:EST
DTSTART:20241103T060000
END:STANDARD
BEGIN:DAYLIGHT
TZOFFSETFROM:-0500
TZOFFSETTO:-0400
TZNAME:EDT
DTSTART:20250309T070000
END:DAYLIGHT
BEGIN:STANDARD
TZOFFSETFROM:-0400
TZOFFSETTO:-0500
TZNAME:EST
DTSTART:20251102T060000
END:STANDARD
BEGIN:DAYLIGHT
TZOFFSETFROM:-0500
TZOFFSETTO:-0400
TZNAME:EDT
DTSTART:20260308T070000
END:DAYLIGHT
BEGIN:STANDARD
TZOFFSETFROM:-0400
TZOFFSETTO:-0500
TZNAME:EST
DTSTART:20261101T060000
END:STANDARD
END:VTIMEZONE
BEGIN:VEVENT
DTSTART;TZID=America/New_York:20250913T100000
DTEND;TZID=America/New_York:20250913T130000
DTSTAMP:20260422T060118
CREATED:20250819T142641Z
LAST-MODIFIED:20250819T142641Z
UID:2013-1757757600-1757768400@wethersfieldartleague.org
SUMMARY:Glass Garden Sculpture or Bird Bath Workshop with Christine Diffley
DESCRIPTION:Sponsored by the Wethersfield Art League\, Saturday\, September 13th\, 10am-1pm at the Little Red Schoolhouse in Wethersfield.\nChristine Diffley of New Life Glass Works will teach you how to create using crystal and found glass objects. Feel free to bring your own treasures and immortalize Grandma’s crystal as a cherished keepsake. The fee is $40 for art league sponsors and $50 for the public plus a $15 material cost.  The project will require drying time and your art can be picked up 9/15 or 9/18 or during any open studio times Mondays or Thursdays at the Schoolhouse. Send check to Wethersfield Art League\, 193 Wells Road\,\nWethersfield CT 06109.  Please include your phone and email information.  Questions: wethersfieldartleague@gmail.com
URL:https://wethersfieldartleague.org/event/glass-garden-sculpture-or-bird-bath-workshop-with-christine-diffley/
LOCATION:Little Red Schoolhouse\, 193 Wells Rd\, Wethersfield\, CT\, 06109\, United States
ORGANIZER;CN="Wethersfield Art League":MAILTO:wethersfieldartleague@gmail.com
END:VEVENT
END:VCALENDAR